Workbook

Sheet Паспорт
B1: УТВЕРЖДЕН
B2: решением управляющего совета муниципального образования "Чемальский район" Протокол управляющего совета муниципального образования "Чемальский район" "24" октября 2025г. №3
A5: ПАСПОРТ
A6: муниципальной программы
A7: "Развитие систем жизнеобеспечения муниципального образования "Чемальский район" на 2026-2031 годы"
A9: 1.Основные положения
A11: Ответственный исполнитель муниципальной программы | B11: МКУ "Управление строительства и коммунального хозяйства" КУ МО "Чемальский район""Единая диспетчерско-хозяйственная служба", консультант по молодежной политике, консультант КДН и ЗП, консультант по мобилизационной работе, консультант по сельскому хозяйству, специалист по связям с общественностью
A12: Период реализации муниципальной программы | B12: 2026-2031 годы
A13: Цель муниципальной программы | B13: Цель 1. Создание нового облика населенных пунктов на территории района.
B14: Цель 2. Обеспечение к 2031 году доступными и качественными жилищно-коммунальными услугами.
B15: Цель 3. Повышение уровня безопасности и качества автомобильных дорог общего пользования местного значения.
B16: Цель 4. Обеспечение комплексных мер безопасности населения.
B17: Цель 5 Развитие жилищного строительства
A18: Направления (подпрограмма) муниципальной программы (при необходимости) | B18: Направление (подпрограмма) 1. Развитие жилищного комплекса.
B19: Направление (подпрограмма) 2. Развитие коммунального комплекса.
B20: Направление (подпрограмма) 3. Развитие дорожно-транспортного комплекса.
B21: Направление (подпрограмма) 4. Обеспечение безопасности населения.
B22: Направление (подпрограмма) 5. Устойчивое развитие сельских территорий.
A23: Объем бюджетных ассигнований муниципальной программы, в том числе по годам реализации. | B23: 2026 год | C23: ='приложение 5'!D8 -> 870272.71
B24: 2027 год | C24: ='приложение 5'!E8 -> 83373.843
B25: 2028 год | C25: ='приложение 5'!F8 -> 38737.353
B26: 2029 год | C26: ='приложение 5'!G8 -> 0
B27: 2030 год | C27: ='приложение 5'!H8 -> 0
B28: 2031 год | C28: ='приложение 5'!I8 -> 0
A29: Связь с национальными целями развития Российской Федерации, государственными программами Республики Алтай | B29: Национальная цель: Комфортная и безопасная среда для жизни: Государственная программа Республики Алтай "Развитие жилищно-коммунального комплекса"; Государственная программа Республики Алтай "Обеспечение экологической безопасности и улучшение состояния окружающей среды"; Государственная программа Республики Алтай "Повышение качества водоснабжения в Республике Алтай"; Государственная программа Республики Алтай "Развитие транспортного комплекса"; Государственная программа "Комплексное развитие сельских территориий"

Sheet Показатели МП
A2: 2. Показатели муниципальной программы
A4: № п/п | B4: Наименование показателя 1 | C4: Единица измерения | D4: Базовое значение (2024 г.) 2 | E4: Значение показателей | K4: Ответственный за достижение показателя 3 | L4: Связь с показателями национальных целей 4 | M4: Информационная система 5
E5: 2026 г. | F5: 2027 г. | G5: 2028 г. | H5: 2029 г. | I5: 2030 г. | J5: 2031 г.
A6: 1 | B6: 2 | C6: 3 | D6: 4 | E6: 5 | F6: 6 | G6: 7 | H6: 8 | I6: 9 | J6: 10 | K6: 11 | L6: 12 | M6: 13
A7: Цель 1. Создание нового облика населенных пунктов на территории района
A8: 1 | B8: Доля многоквартирных домов, в которых собственники помещений выбрали и реализуют один из способов управления многоквартирными домами, в общем числе многоквартирных домов, в которых собственники помещений должны выбрать способ управления указанными домами. | C8: % | D8: 100 | E8: 100 | F8: 100 | G8: 100 | H8: 100 | I8: 100 | J8: 100 | K8: МКУ "Управление строительства и коммунального хозяйста" | L8: Улучшение качества городской среды в полтора раза | M8: х
A9: Цель 2. Обеспечение к 2031 году доступными и качественными жилищно-коммунальнымиуслугами
A10: 2 | B10: Объем не завершенного в установленные сроки строительства, осуществляемого за счет средств бюджета муниципального района | C10: млн. рублей | D10: 0 | E10: 0 | F10: 0 | G10: 0 | H10: 0 | I10: 0 | J10: 0 | K10: МКУ "Управление строительства и коммунального хозяйста" | L10: Улучшение жилищных условий не менее 5 млн. семей ежегодно и увеличение объема жилищного строительства не менее чем до 120 млн. кв. метров в год | M10: х
A11: Цель 3. Повышение уровня безопасности и качества автомобильных дорог общего пользования местного значения
A12: 3 | B12: Доля протяженности автомобильных дорог общего пользования местного значения, не отвечающих нормативным требованиям, в общей протяженности автомобильных дорог общего пользования местного значения | C12: % | D12: 0 | E12: 0 | F12: 0 | G12: 0 | H12: 0 | I12: 0 | J12: 0 | K12: МКУ "Управление строительства и коммунального хозяйста" | L12: х | M12: х
A13: Цель 4 Обеспечение комплексных мер безопасности населения
A14: 4 | B14: Количество проведенных мероприятий по предупреждению и ликвидации чрезвычайных ситуаций природного и техногенного характера | C14: ед. | D14: 3 | E14: 3 | F14: 3 | G14: 3 | H14: 3 | I14: 3 | J14: 3 | K14: КУ МО "Чемальский район" "Единая диспетчерско-хозяйственная служба" | L14: х | M14: х
A15: 5 | B15: Доля выявленных преступных действий против личности, общества против межнационального и межконфессионального согласия в общей численности зарегистрированных преступлений | C15: % | D15: 0 | E15: 0 | F15: 0 | G15: 0 | H15: 0 | I15: 0 | J15: 0 | K15: Консультант по молодежной политике | L15: х | M15: х
A16: 6 | B16: Снижение количества зарегистрированных преступлений | C16: % | D16: 1 | E16: 1 | F16: 1 | G16: 1 | H16: 1 | I16: 1 | J16: 1 | K16: Консультант КДН и ЗП | L16: х | M16: х
B17: Цель 5 Развитие жилищного строительства
A18: 7 | B18: Обеспечение населения доступным и комфортным жильем (категория молодые специалисты, молодые семьи) | C18: кол-во семей и молодых специалистов- получателей субсидии | D18: 0 | E18: 2 | F18: 2 | G18: 2 | H18: 2 | I18: 2 | J18: 2 | K18: Консультант по сельскому хозяйству, консультант по молодежной политике | L18: х | M18: х

Sheet Структура МП
A2: 3.Структура муниципальной программы
A4: № п/п | B4: Задачи структурного элемента 7 | C4: Краткое описание ожидаемых эффектов от реализации задачи структурного элемента8 | D4: Связь с показателями 9
A5: 1 | B5: 2 | C5: 3 | D5: 4
A6: 1 | B6: Направление (подпрограмма) 1. Развитие жилищного комплекса
A7: 1.1 | B7: Региональный проект «Формирование комфортной городской среды»
B8: Ответственный за реализацию (МКУ "Управление строительства и коммунального хозяйства") | D8: Срок реализации: 2026-2031 годы
A9: 1.1.1 | B9: Благоустройство сельских территорий | C9: Создание условий для безопасной и удобной жизни граждан | D9: Доля многоквартирных домов, в которых собственники помещений выбрали и реализуют один из способов управления многоквартирными домами, в общем числе многоквартирных домов, в которых собственники помещений должны выбрать способ управления указанными домами
A10: 1.2 | B10: Комплекс процессных мероприятий «Благоустройство территорий»
B11: Ответственный за реализацию (МКУ "Управление строительства и коммунального хозяйства") | D11: Срок реализации: 2026-2031 годы
A12: 1.2.1 | B12: Благоустройство территории общего пользования | C12: Организация мероприятий по благоустройству территории общего пользования, устройству детских и сппортивных площадок, уличного освещения | D12: х
A13: 1.2.2 | B13: Осуществление полномочий по организации деятельности в сфере похоронного дела | C13: Сокращение образования отходов и снижение класса опасности отходов в источниках их образования. | D13: х
A14: 1.3 | B14: Комплекс процессных мероприятий «Улучшение жилищных условий граждан, проживающих в сельской местности, обеспечение жильем молодых семей и молодых специалистов»
B15: Ответственный за реализацию (консультант по сельскому хозяйству администрации Чемальского района, консультант по молодежной политике администрации Чемальского района" | D15: Срок реализации: 2026-2031 годы
A16: 1.3.1 | B16: Формирование списков получателей субсидии на улучшение жилищных условий | C16: Улучшение условий жизни населения Чемальского района, проживающего в сельской местности | D16: Количество молодых семей и молодых специалистов , обеспеченных жильем
A17: 1.4 | B17: Комплекс процессных мероприятий «Улучшение условий жизни населения Чемальского района, проживающего в многоквартирном жилом фонде»
B18: Ответственный за реализацию (МКУ "Управление строительства и коммунального хозяйства") | D18: Срок реализации: 2026-2031 годы
A19: 1.4.1 | B19: Проведение капитального ремонта общего имущества в многоквартирных домах | C19: Улучшение условий жизни населения Чемальского района, проживающего в многоквартирном жилом фонде | D19: Доля многоквартирных домов, в которых собственники помещений выбрали и реализуют один из способов управления многоквартирными домами, в общем числе многоквартирных домов, в которых собственники помещений должны выбрать способ управления указанными домами
A20: 1.5 | B20: Комплекс процессных мероприятий «Осуществление полномочий по организации мероприятий в сфере обращения с отходами»
B21: Ответственный за реализацию (МКУ "Управление строительства и коммунального хозяйства") | D21: Срок реализации: 2026-2031 годы
A22: 1.5.1 | B22: Организация мероприятий в сфере обращения с отходами | C22: Создание условий для безопасной и удобной жизни граждан | D22: х
A23: 2 | B23: Направление (подпрограмма) 2. Развитие коммунального комплекса
A24: 2.1 | B24: Региональный проект «Модернизация систем коммунальной инфраструктуры»
B25: Ответственный за реализацию (МКУ "Управление строительства и коммунального хозяйства") | D25: Срок реализации: 2026-2031 годы
A26: 2.1.1 | B26: Реализация проектов по модернизации систем коммунальной инфраструктуры | C26: х | D26: Объем не завершенного в установленные сроки строительства, осуществляемого за счет средств бюджета муниципального района
A27: 2.2 | B27: Региональный проект «Комплексное развитие сельских территорий»
B28: Ответственный за реализацию (МКУ "Управление строительства и коммунального хозяйства") | D28: Срок реализации: 2026-2031 годы
A29: 2.2.1 | B29: Реализация проектов коплексного развития сельских территорий | C29: х | D29: Объем не завершенного в установленные сроки строительства, осуществляемого за счет средств бюджета муниципального района
A30: 2.3 | B30: Комплекс процессных мероприятий «Развитие коммунальной инфраструктуры»
B31: Ответственный за реализацию (МКУ "Управление строительства и коммунального хозяйства") | D31: Срок реализации: 2026-2031 годы
A32: 2.3.1 | B32: Развитие водоснабжения и теплоснабжения | C32: Реализация мероприятий по проектированию, реконструкции, расширению, модернизации, стротельству комунальных объектов; по проведению капитального и текущего ремонта (с заменой) систем теплоснабжения, водоснабжения и водоотведения | D32: Объем не завершенного в установленные сроки строительства, осуществляемого за счет средств бюджета муниципального района
A33: 2.4 | B33: Комплекс процессных мероприятий «Развитие социальной инфраструктуры»
B34: Ответственный за реализацию (МКУ "Управление строительства и коммунального хозяйства") | D34: Срок реализации: 2026-2031 годы
A35: 2.4.1 | B35: Развитие сельских территорий | C35: Реализация мероприятий по проектированию, реконструкции, расширению, модернизации, стротельству социальных объектов; по проведению капитального и текущего ремонта | D35: Объем не завершенного в установленные сроки строительства, осуществляемого за счет средств бюджета муниципального района домовладений района
A36: 3 | B36: Направление (подпрограмма) 3. Развитие дорожно-транспортного комплекса
A37: 3.1 | B37: Комплекс процессных мероприятий «Сохранение и развитие автомобильных дорог»
B38: Ответственный за реализацию (МКУ "Управление строительства и коммунального хозяйства") | D38: Срок реализации: 2026-2031 годы
A39: 3.1.1 | B39: Улучшение технического состояния, повышение уровня комфортности улично-дорожной сети района для обеспечения безопасности и эффективности транспортного обслуживания населения | C39: Разработка проектной, сметной документации, капитальный ремонт и текущий ремонт (ямочный) автомобильных дорог, местного значения | D39: Доля протяженности автомобильных дорог общего пользования местного значения, не отвечающих нормативным требованиям, в общей протяженности автомобильных дорог общего пользования местного значения
A40: 3.1.2 | B40: Развитие и сохранность сети автомобильных дорог местного значения | C40: Содержание автомобильных дорог местного значения в границах населенных пунктов сельского поселения (организация мероприятий по очистке от снега и наледи в зимний период улично-дорожной сети района и др.) | D40: Доля протяженности автомобильных дорог общего пользования местного значения, не отвечающих нормативным требованиям, в общей протяженности автомобильных дорог общего пользования местного значения
A41: 3.1.3 | B41: Обеспечение безопасности дорожного движения на автомобильных дорогах местного значения | C41: Приобретение и установка дорожных знаков, нанесение разметки на улично-дорожной сети района, приобретение и устновка остановочных павильонов и урн | D41: Доля протяженности автомобильных дорог общего пользования местного значения, не отвечающих нормативным требованиям, в общей протяженности автомобильных дорог общего пользования местного значения
A42: 4 | B42: Структурные элементы, не входящие в направления (подпрограммы)
A43: 4.1 | B43: Комплекс процессных мероприятий «Создание условий для реализации муниципальной программы муниципального образования "Чемальский район»
B44: Ответственный за реализацию (МКУ "Управление строительства и коммунального хозяйства") | D44: Срок реализации: 2026-2031 годы
A45: 4.1.1 | B45: Создание условий для обеспечения выполнения функций и текущих задач | C45: Выполнение запланированных мероприятий | D45: х
A46: 5. | B46: Направление (подпрограмма) 4. Обеспечение безопасности населения
A47: 5.1 | B47: Комплекс процессных мероприятий «Повышения уровня защиты населения от чрезвычайных ситуаций, пожаров и происшествий на водных объектов»
B48: Ответственный за реализацию (КУ МО "Чемальский район" "Единая диспетчерско-хозяйственная служба", МКУ "Управление строительства и коммунального хозяйста") | D48: Срок реализации: 2026-2031 годы
A49: 5.1.1 | B49: Устойчивое развитие системы предупреждения чрезвычайных ситуаций и ликвидации их последствий | C49: Обеспечения уровня подготовки органа управления муниципального звена ТП РСЧС и информированности населения по вопросам гражданской обороны, защиты населения и территорий от чрезвычайных ситуаций природного и техногенного характера | D49: Количество обученных сотрудников учреждений и населения в области гражданской обороны и защиты от чрезвычайных ситуаций природного и техногенного характера
C50: Организация мероприятий по гражданской обороне, защите населения и территорий муниципального образования от чрезвычайных ситуаций и пожарной безопасности; совершенствование системы мониторинга, прогнозирования чрезвычайных ситуаций природного и техногенного характера; локализация и ликвидация пожаров на территории муниципального образования; проведение аварийно-спасательных и других неотложных работ. | D50: Количество проведенных мероприятий по предупреждению и ликвидации чрезвычайных ситуаций природного и техногенного характера
C51: Обеспечение необходимого запаса резервов материальных ресурсов для предупреждения и ликвидации чрезвычайных ситаций и запасов материально-технических, продовольственных, медицинских и иных средств, накапливаемых и используемых в целях выполнения мероприятий гражданской обороны | D51: Создание, содержание и пополнение резервов материальных ресурсов для предупреждения и ликвидации чрезвычайных ситаций и запасов материально-технических, продовольственных, медицинских и иных средств, накапливаемых и используемых в целях выполнения мероприятий гражданской обороны
A52: 5.2 | B52: Комплекс процессных мероприятий «Развитие ЕДДС Чемальского района»
B53: Ответственный за реализацию (КУ МО "Чемальский район" "Единая диспетчерско-хозяйственная служба") | D53: Срок реализации: 2026-2031 годы
A54: 5.2.1 | B54: Устойчивое развитие системы оповещения населения | C54: Достижение охвата населенных пунктов техническими средствами оповещения не менее 75% в автоматичированном режиме | D54: Увеличения площади покрытия территории муниципального образования "Чемальский район" автоматической системой оповещения
A55: 5.2.2 | B55: Создание условий для обеспечения выполнения функций ЕДДС | C55: Материально-техническое обеспечение для осуществление полномочий ЕДДС | D55: х
A56: 5.3 | B56: Комплекс процессных мероприятий «Создание условий для выполнения задач и функций КУ МО "Чемальский район" "Единая диспетчерско-хозяйственная служба" | E56: ????
B57: Ответственный за реализацию (КУ МО "Чемальский район" "Единая диспетчерско-хозяйственная служба", МКУ "Управление строительства и коммунального хозяйста") | D57: Срок реализации: 2026-2031 годы
A58: 5.3.1 | B58: Создание условий для обеспечения выполнения функций КУ МО "Чемальский район" "Единая диспетчерско-хозяйственная служба" | C58: Материально-техническое обеспечение для осуществление полномочий | D58: х
A59: 5.4 | B59: Комплекс процессных мероприятий " Профилактика терроризма"
B60: Ответственный за реализацию (КУ МО "Чемальский район" "Единая диспетчерско-хозяйственная служба") | D60: Срок реализации: 2026-2031 годы
A61: 5.4.1 | B61: Проведение мероприятий по предупреждению, выявлению и пресечению террористической деятельности | C61: Снижение угрозы террористических актов | D61: Снижение количества зарегистрированных преступлений
A62: 5.5 | B62: Комплекс процессных мероприятий " Профилактика правонарушений"
B63: Ответственный за реализацию (КУ МО "Чемальский район" "Единая диспетчерско-хозяйственная служба") | D63: Срок реализации: 2026-2031 годы
A64: 5.5.1 | B64: Проведение мероприятий, направленных на снижение уровня преступности на территории района | C64: Снижение количества правонарушений | D64: Снижение количества зарегистрированных преступлений
A65: 5.6 | B65: Комплекс процессных мероприятий " Профилактика экстремизма, обеспечение межнационального и межконфессионального согласия, другие вопросы в области национальной безопасности "
B66: Ответственный за реализацию (Консультант по молодежной политике администрации Чемальского района) | D66: Срок реализации: 2026-2031 годы
A67: 5.6.1 | B67: Проведение информационно -пропагандистских мероприятий по разъяснению сущности экстремизма, его общественной опасности | C67: Выполнения законодательства в сфере предупреждения террористических актов | D67: Доля выявленных преступных действий против личности, общества против межнационального и межконфессионального согласия в общей численности зарегистрированных преступлений
A68: 5.7 | B68: Комплекс процессных мероприятий "Мобилизационная подготовка"
B69: Ответственный за реализацию (Консультант по мобилизационной работе администрации Чемальского района) | D69: Срок реализации: 2026-2031 годы
A70: 5.7.1 | B70: Подготовка мобилизационнных органов к выполнению задач | C70: Готовность мобилизационных органов к выполнению задач | D70: Количество проведенных тренировок
A71: 5.8 | B71: Комплекс процессных мероприятий "Профилактика безнадзорности и правонарушений несовершеннолетних"
B72: Ответственный за реализацию (Консультант КДН и ЗП администрации Чемальского района) | D72: Срок реализации: 2026-2031 годы
A73: 5.8.1 | B73: Проведение мероприятий в соответствии с межведомственным планом предупреждения безнадзорности и правонарушений несовершеннолетних | C73: Снижение количества преступлений, совершенных несовершеннолетними | D73: Снижение количества зарегистрированных преступлений
A74: 5.9 | B74: Комплекс процессных мероприятий "Комплекс мер по противодействию, злоупотреблению наркотических средств и их незаконному обороту"
B75: Ответственный за реализацию (Консультант по молодежной политике администрации Чемальского района) | D75: Срок реализации: 2026-2031 годы
A76: 5.9.1 | B76: Обеспечение мер по противодействию незаконному обороту и потреблению наркотических средств, психоропных средств и их прекурсоров | C76: Снижение количества преступлений по незаконному обороту наркотических средств | D76: Снижение количества зарегистрированных преступлений
A77: 5.10 | B77: Комплекс процессных мероприятий "Осуществление деятельности по обращению с животными без владельцев"
B78: Ответственный за реализацию (Консультант по сельскому хозяйству администрации Чемальского района) | D78: Срок реализации: 2026-2031 годы
A79: 5.10.1 | B79: Реализация мероприятий, направленных на предупреждение и не допущения роста числа правонарушений | C79: х | D79: х

Sheet Перечень мероприятий
A2: 4. Перечень мероприятий (результатов) муниципальной программы
A4: № п/п | B4: Наименование мероприятия (результат) | C4: Целевые показатели непосредственного результата реализации мероприятия | L4: Сроки наступления мероприятия
C5: Наименование | D5: Единица измерения | E5: Базовое значение (2024г.) | F5: Значения мероприятия (результата) по годам | L5: I полугодие | M5: II полугодие
F6: 2026г. | G6: 2027г. | H6: 2028г. | I6: 2029г. | J6: 2030г. | K6: 2031г.
A7: 1 | B7: 2 | C7: 3 | D7: 4 | E7: 5 | F7: 6 | G7: 7 | H7: 8 | I7: 9 | J7: 10 | K7: 11 | L7: 12 | M7: 13
A8: 1. Региональный проект "Формирование комфортной городской среды"
A9: Благоустройство сельских территорий
A10: 1.1 | B10: Благоустройтво территорий общего пользования | C10: Количество благоустроенных территорий общего пользования | D10: шт. | E10: 1 | F10: 1 | G10: 1 | H10: 1 | I10: 1 | J10: 1 | K10: 1 | M10: V
A11: 2. Региональный проект "Модернизация систем коммунальной инфраструктуры"
A12: Реализация проектов по модернизации систем коммунальной инфраструктуры
A13: 2.1 | B13: Обеспечение модернизации систем коммунальной инфраструктуры (строительство объектов коммунальной инфраструктуры) | C13: Обеспеченность централизованным водоснабжением домовладений | D13: % | M13: V
A14: 3. Региональный проект "Комплексное развитие сельских территорий"
A15: Реализация проектов коплексного развития сельских территорий
A16: 3.1 | B16: Обеспечение комплексного развития сельских территорий (строительство социальных и коммунальных объектов) | C16: Доля муниципальных общеобразовательных учреждений, здания которых находятся в аварийном состоянии или требуют капитального ремонта, в общем количестве муниципальных общеобразовательных учреждений | D16: % | E16: 30 | F16: 20 | G16: 10 | H16: 0 | I16: 0 | J16: 0 | K16: 0 | M16: V
A17: 4. Комплекс процессных мероприятий «Благоустройство территорий»
A18: Благоустройство территории общего пользования
A19: 4.1 | B19: Благоустройство территории общего пользования | C19: Количество обустроенных детких/спортвных площадок | D19: =D10 -> шт. | E19: =E10 -> 1 | F19: =F10 -> 1 | G19: =G10 -> 1 | H19: =H10 -> 1 | I19: =I10 -> 1 | J19: =J10 -> 1 | K19: =K10 -> 1 | M19: V
A20: 4.2 | B20: Осуществление полномочий по организации деятельности в сфере похоронного дела | C20: Доля благоустроенных территорий кладбищ из общего колличества | D20: % | E20: 100 | F20: 100 | G20: 100 | H20: 100 | I20: 100 | J20: 100 | K20: 100 | M20: V
A21: 5. Комплекс процессных мероприятий "Улучшение жилищных условий граждан, проживающих в сельской местности, обеспечение жильем молодых семей и молодых специалистов"
A22: Формирование списков получателей субсидии на улучшение жилищных условий
A23: 5.1 | B23: Предоставление социальных выплат на строительство и приобретение жилья молодым семьям и молодым специалистам | C23: X | M23: V
A24: 6. Комплекс процессных мероприятий «Улучшение условий жизни населения Чемальского района, проживающего в многоквартирном жилом фонде»
A25: Проведение капитального ремонта общего имущества в многоквартирных домах
A26: 6.1 | B26: Обеспечение мероприятий про капитальному ремонту общего имущества в многоквартирных домах | C26: Количество многоквартирных домов, на которых выполнены работы по капитальному ремонту общего имущества | D26: ед. | M26: V
A27: 7. Комплекс процессных мероприятий «Осуществление полномочий по организации мероприятий в сфере обращения с отходами»
A28: Организация мероприятий в сфере обращения с отходами
A29: 7.1 | B29: Проведение мероприятий в сфере обращения с отходами | C29: Ликвидация несанкционированных свалок ТКО | D29: % | E29: 100 | F29: 100 | G29: 100 | H29: 100 | I29: 100 | J29: 100 | K29: 100 | M29: V
A30: 8. Комплекс процессных мероприятий «Развитие коммунальной инфраструктуры»
A31: Развитие водоснабжения и теплоснабжения
A32: 8.1 | B32: Осуществление мероприятий по развитию коммунальной инфраструктуры (проектироние, капитальный ремонт, ремонт объектов коммунальной инфраструктуры) | C32: Доля отремонтированных сетей водоснабжения | D32: % | M32: V
C33: Доля отремонтированных тепловых сетей | D33: % | M33: V
C34: Доля актуальных схем водоснабжения и теплоснабжения | D34: % | E34: 100 | F34: 100 | G34: 100 | H34: 100 | I34: 100 | J34: 100 | K34: 100 | M34: V
A35: 9. Комплекс процессных мероприятий «Развитие социальной инфраструктуры»
A36: Развитие сельских территорий
A37: 9.1 | B37: Обеспечение модернизации систем коммунальной инфраструктуры (проектировние, капитальный ремонт, ремонт объектов социальной инфраструктуры) | C37: X | M37: V
A38: 10. Комплекс процессных мероприятий «Сохранение и развитие автомобильных дорог»
A39: Улучшение технического состояния, повышение уровня комфортности улично-дорожной сети района для обеспечения безопасности и эффективности транспортного обслуживания населения
A40: 10.1 | B40: Капитальный ремонт, ремонт и содержание автомобильных дорог местного значения и искусственных сооружений на них | C40: Доля автомобильных дорог местного значения, не отвечающих нормативным требованиям к общей протяженности дорог местного значения | D40: % | M40: V
A41: 11. Комплекс процессных мероприятий «Создание условий для реализации муниципальной программы"
A42: Создание условий для обеспечения выполнения функций и текущих задач
A43: 11.1 | B43: Обеспечение деятельности МКУ "Управление строительства и коммунального хозяйства" | C43: Х | M43: V
A44: 12. Комплекс процессных мероприятий «Повышения уровня защиты населения от чрезвычайных ситуаций, пожаров и происшествий на водных объектов”
A45: Устойчивое развитие системы предупреждения чрезвычайных ситуаций и ликвидации их последствий
A46: 12.1 | B46: Профессиональная подготовка муниципального звена ТП РСЧС и обучение населения по вопросам гражданской обороны, защиты населения и территорий от чрезвычайных ситуаций природного и техногенного характера | C46: Количество обученных сотрудников учреждений и населения в области гражданской обороны и защиты от чрезвычайных ситуаций природного и техногенного характера | D46: % | E46: 100 | F46: 100 | G46: 100 | H46: 100 | I46: 100 | J46: 100 | K46: 100 | M46: V
A47: 12.2 | B47: Проведение мероприятий по гражданской обороне, защите населения и территорий муниципального образования от чрезвычайных ситуаций и пожарной безопасности | C47: Количество проведенных мероприятий по предупреждению и ликвидации чрезвычайных ситуаций природного и техногенного характера | D47: ед. | E47: 3 | F47: 3 | G47: 3 | H47: 3 | I47: 3 | J47: 3 | K47: 3 | M47: V
A48: 12.3 | B48: Создание, содержание и пополнение резервов материальных ресурсов для предупреждения и ликвидации чрезвычайных ситаций и запасов материально-технических, продовольственных, медицинских и иных средств, накапливаемых и используемых в целях выполнения мероприятий гражданской обороны | C48: Создание, содержание и пополнение резервов материальных ресурсов для предупреждения и ликвидации чрезвычайных ситаций и запасов материально-технических, продовольственных, медицинских и иных средств, накапливаемых и используемых в целях выполнения мероприятий гражданской обороны | D48: % | E48: 43 | F48: =E48+9.5 -> 52.5 | G48: =F48+9.5 -> 62 | H48: =G48+9.5 -> 71.5 | I48: =H48+9.5 -> 81 | J48: =I48+9.5 -> 90.5 | K48: =J48+9.5 -> 100 | M48: V
A49: 13. Комплекс процессных мероприятий «Развитие ЕДДС Чемальского района”
A50: Устойчивое развитие системы оповещения населения
A51: 13.1 | B51: Реконструкция системы оповещения населения | C51: ='[1]Показатели МП'!B47 -> 0 | D51: ='[1]Показатели МП'!C47 -> 0 | E51: ='[1]Показатели МП'!D47 -> 0 | F51: 66 | G51: =F51+6.8 -> 72.8 | H51: =G51+6.8 -> 79.6 | I51: =H51+6.8 -> 86.4 | J51: =I51+6.8 -> 93.2 | K51: =J51+6.8 -> 100 | M51: V
A52: 13.2 | B52: Развитие Единой дежурно-диспетчерской службы | C52: х | M52: V
A53: 14. Комплекс процессных мероприятий «Создание условий для выполнения задач и функций КУ МО "Чемальский район""Единая диспетчерско-хозяйственная служба"
A54: Создание условий для обеспечения выполнения функций казенного учреждения муниципального образования "Чемальский район" "Единая диспетчерско-хозяйственная служба"
A55: 14.1 | B55: Обеспечение деятельности казенного учреждения муниципального образования "Чемальский район" "Единая диспетчерско-хозяйственная служба" | C55: X | M55: V
A56: 15. Комплекс процессных мероприятий " Профилактика терроризма"
A57: Проведение мероприятий по предупреждению, выявлению и пресечению террористической деятельности
A58: 15.1 | B58: Проведение мероприятий по предупреждению, выявлению и пресечению террористической деятельности | C58: Количество профилактических мероприятий в сфере предупреждения террористических актов | D58: ед. | E58: 10 | F58: 10 | G58: 10 | H58: 10 | I58: 10 | J58: 10 | K58: 10 | M58: V
B59: 16. Комплекс процессных мероприятий " Профилактика правонарушений"
A60: Проведение мероприятий, направленных на снижение уровня преступности на территории района
A61: 16.1 | B61: Проведение мероприятий, направленных на снижение уровня преступности на территории района | C61: Количество мероприятий по охране общественного порядка, проведенных с участием народных дружин и общественных объединений правоохранительной направленности | D61: ед. | E61: 15 | F61: 15 | G61: 15 | H61: 15 | I61: 15 | J61: 15 | K61: 15 | M61: V
A62: 17. Комплекс процессных мероприятий "Профилактика экстремизма, обеспечение межнационального и межконфессионального согласия, другие вопросы в области национальной безопасности"
A63: Проведение информационно -пропагандистских мероприятий по разъяснению сущности экстремизма, его общественной опасности
A64: 17.1 | B64: Проведение информационно-пропагандистских мероприятий по разъяснению сущности экстремизма, его общественной опасности. | C64: X | M64: V
A65: 18. Комплекс процессных мероприятий "Мобилизационная подготовка"
A66: Подготовка мобилизационнных органов к выполнению задач
A67: 18.1 | B67: Подготовка мобилизационнных органов к выполнению задач | C67: Готовность мобилизационных органов к выполнению задач | D67: да/нет | F67: да | G67: да | H67: да | I67: да | J67: да | K67: да | M67: V
A68: 19. Комплекс процессных мероприятий "Профилактика безнадзорности и правонарушений несовершеннолетних"
A69: Проведение мероприятий в соответствии с межведомственным планом предупреждения безнадзорности и правонарушений несовершеннолетних
A70: 19.1 | B70: Проведение мероприятий в соответствии с межведомственным планом предупреждения безнадзорности и правонарушений несовершеннолетних | C70: Количество мероприятий , направленных на предупреждение правонарушений | D70: ед. | E70: 4 | F70: 4 | G70: 4 | H70: 4 | I70: 4 | J70: 4 | K70: 4 | M70: V
A71: 20. Комплекс процессных мероприятий "Комплекс мер по противодействию, злоупотреблению наркотических средств и их незаконному обороту"
A72: Обеспечение мер по противодействию незаконному обороту и потреблению наркотических средств, психоропных средств и их прекурсоров
A73: 20.1 | B73: Противодействие злоупотреблению наркотических средств | C73: Количество мероприятий, направленных на противодействие злоупотреблению наркотических средств | D73: ед. | E73: 10 | F73: 10 | G73: 10 | H73: 10 | I73: 10 | J73: 10 | K73: 10 | M73: V
B74: 21. Комплекс процессных мероприятий "Осуществление деятельности по обращению с животными без владельцев "
A75: Реализация мероприятий, направленных на предупреждение и не допущения роста числа правонарушений
A76: 21.1 | B76: Реализация мероприятий по осуществлению деятельности по обращению с животными без владельцев на территории Чемальского района | C76: X | M76: V

Sheet приложение 5
A2: 5. Финансовое обеспечение муниципальной программы муниципального образования
A5: № п/п | B5: Наименование муниципальной программы, структурного элемента муниципальной программы (комплексной подпрограммы) | C5: Источник финансового обеспечения | D5: Объем финансового обеспечения по годам реализации тыс.рублей
D6: 2026 г. | E6: 2027 г. | F6: 2028 г. | G6: 2029 г. | H6: 2030 г. | I6: 2031 г.
A7: 1 | B7: 2 | C7: 3 | D7: 4 | E7: 5 | F7: 6 | G7: 7 | H7: 8 | I7: 9
B8: Муниципальная программа | C8: всего, в том числе: | D8: =D9+D10+D11+D12 -> 870272.71 | E8: =E9+E10+E11+E12 -> 83373.843 | F8: =F9+F10+F11+F12 -> 38737.353 | G8: =G9+G10+G11+G12 -> 0 | H8: =H9+H10+H11+H12 -> 0 | I8: =I9+I10+I11+I12 -> 0
C9: местный бюджетмуниципального образования | D9: =D14+D19+D24+D29+D39+D44+D49+D54+D59+D64+D69+D74+D79+D84+D89+D99+D104+D109+D114+D119+D34+D94 -> 222246.02 | E9: =E14+E19+E24+E29+E39+E44+E49+E54+E59+E64+E69+E74+E79+E84+E89+E99+E104+E109+E114+E119+E34+E94 -> 78278.943 | F9: =F14+F19+F24+F29+F39+F44+F49+F54+F59+F64+F69+F74+F79+F84+F89+F99+F104+F109+F114+F119+F34+F94 -> 33642.453 | G9: =G14+G19+G24+G29+G39+G44+G49+G54+G59+G64+G69+G74+G79+G84+G89+G99+G104+G109+G114+G119+G34+G94 -> 0 | H9: =H14+H19+H24+H29+H39+H44+H49+H54+H59+H64+H69+H74+H79+H84+H89+H99+H104+H109+H114+H119+H34+H94 -> 0 | I9: =I14+I19+I24+I29+I39+I44+I49+I54+I59+I64+I69+I74+I79+I84+I89+I99+I104+I109+I114+I119+I34+I94 -> 0
C10: федеральный бюджет (справочно) | D10: =D15+D20+D25+D30+D40+D45+D50+D55+D60+D65+D70+D75+D80+D85+D90+D100+D105+D110+D115+D120+D35+D95 -> 41837.524 | E10: =E15+E20+E25+E30+E40+E45+E50+E55+E60+E65+E70+E75+E80+E85+E90+E100+E105+E110+E115+E120+E35+E95 -> 0 | F10: =F15+F20+F25+F30+F40+F45+F50+F55+F60+F65+F70+F75+F80+F85+F90+F100+F105+F110+F115+F120+F35+F95 -> 0 | G10: =G15+G20+G25+G30+G40+G45+G50+G55+G60+G65+G70+G75+G80+G85+G90+G100+G105+G110+G115+G120+G35+G95 -> 0 | H10: =H15+H20+H25+H30+H40+H45+H50+H55+H60+H65+H70+H75+H80+H85+H90+H100+H105+H110+H115+H120+H35+H95 -> 0 | I10: =I15+I20+I25+I30+I40+I45+I50+I55+I60+I65+I70+I75+I80+I85+I90+I100+I105+I110+I115+I120+I35+I95 -> 0
C11: республиканский бюджет Республики Алтай (справочно) | D11: =D16+D21+D26+D31+D41+D46+D51+D56+D61+D66+D71+D76+D81+D86+D91+D101+D106+D111+D116+D121+D36+D96 -> 595517.5 | E11: =E16+E21+E26+E31+E41+E46+E51+E56+E61+E66+E71+E76+E81+E86+E91+E101+E106+E111+E116+E121+E36+E96 -> 5094.9 | F11: =F16+F21+F26+F31+F41+F46+F51+F56+F61+F66+F71+F76+F81+F86+F91+F101+F106+F111+F116+F121+F36+F96 -> 5094.9 | G11: =G16+G21+G26+G31+G41+G46+G51+G56+G61+G66+G71+G76+G81+G86+G91+G101+G106+G111+G116+G121+G36+G96 -> 0 | H11: =H16+H21+H26+H31+H41+H46+H51+H56+H61+H66+H71+H76+H81+H86+H91+H101+H106+H111+H116+H121+H36+H96 -> 0 | I11: =I16+I21+I26+I31+I41+I46+I51+I56+I61+I66+I71+I76+I81+I86+I91+I101+I106+I111+I116+I121+I36+I96 -> 0
C12: иные источники (справочно) | D12: =D17+D22+D27+D32+D42+D47+D52+D57+D62+D67+D72+D77+D82+D87+D92+D102+D107+D112+D117+D122+D37+D97 -> 10671.67 | E12: =E17+E22+E27+E32+E42+E47+E52+E57+E62+E67+E72+E77+E82+E87+E92+E102+E107+E112+E117+E122+E37+E97 -> 0 | F12: =F17+F22+F27+F32+F42+F47+F52+F57+F62+F67+F72+F77+F82+F87+F92+F102+F107+F112+F117+F122+F37+F97 -> 0 | G12: =G17+G22+G27+G32+G42+G47+G52+G57+G62+G67+G72+G77+G82+G87+G92+G102+G107+G112+G117+G122+G37+G97 -> 0 | H12: =H17+H22+H27+H32+H42+H47+H52+H57+H62+H67+H72+H77+H82+H87+H92+H102+H107+H112+H117+H122+H37+H97 -> 0 | I12: =I17+I22+I27+I32+I42+I47+I52+I57+I62+I67+I72+I77+I82+I87+I92+I102+I107+I112+I117+I122+I37+I97 -> 0
A13: 1 | B13: Региональный проект "Формирование комфортной городской среды" | C13: всего, в том числе: | D13: =D17+D16+D15+D14 -> 11000 | E13: =E17+E16+E15+E14 -> 11000 | F13: =F17+F16+F15+F14 -> 11000 | G13: =G17+G16+G15+G14 -> 0 | H13: =H17+H16+H15+H14 -> 0 | I13: =I17+I16+I15+I14 -> 0
C14: местный бюджет муниципального образования | D14: 6200 | E14: 6200 | F14: 6200 | G14: 0 | H14: 0 | I14: 0
C15: федеральный бюджет (справочно) | D15: 0 | E15: 0 | F15: 0 | G15: 0 | H15: 0 | I15: 0
C16: республиканский бюджет Республики Алтай (справочно) | D16: 4800 | E16: 4800 | F16: 4800 | G16: 0 | H16: 0 | I16: 0
C17: иные источники (справочно) | D17: 0 | E17: 0 | F17: 0 | G17: 0 | H17: 0 | I17: 0
A18: 2 | B18: Региональный проект "Модернизация систем коммунальной инфраструктуры" | C18: всего, в том числе: | D18: =D19+D20+D21+D22 -> 53358.658 | E18: =E19+E20+E21+E22 -> 0 | F18: =F19+F20+F21+F22 -> 0 | G18: =G19+G20+G21+G22 -> 0 | H18: =H19+H20+H21+H22 -> 0 | I18: =I19+I20+I21+I22 -> 0
C19: местный бюджет муниципального образования | D19: 426.867 | E19: 0 | F19: 0 | G19: 0 | H19: 0 | I19: 0
C20: федеральный бюджет (справочно) | D20: 41837.524 | E20: 0 | F20: 0 | G20: 0 | H20: 0 | I20: 0
C21: республиканский бюджет Республики Алтай (справочно) | D21: 422.598 | E21: 0 | F21: 0 | G21: 0 | H21: 0 | I21: 0
C22: иные источники (справочно) | D22: 10671.67 | E22: 0 | F22: 0 | G22: 0 | H22: 0 | I22: 0
A23: 3 | B23: Региональный проект "Комплексное развитие сельских территорий" | C23: всего, в том числе: | D23: =D24+D25+D26+D27 -> 0 | E23: =E24+E25+E26+E27 -> 0 | F23: =F24+F25+F26+F27 -> 0 | G23: =G24+G25+G26+G27 -> 0 | H23: =H24+H25+H26+H27 -> 0 | I23: =I24+I25+I26+I27 -> 0
C24: местный бюджет муниципального образования | D24: 0 | E24: 0 | F24: 0 | G24: 0 | H24: 0 | I24: 0
C25: федеральный бюджет (справочно) | D25: 0 | E25: 0 | F25: 0 | G25: 0 | H25: 0 | I25: 0
C26: республиканский бюджет Республики Алтай (справочно) | D26: 0 | E26: 0 | F26: 0 | G26: 0 | H26: 0 | I26: 0
C27: иные источники (справочно) | D27: 0 | E27: 0 | F27: 0 | G27: 0 | H27: 0 | I27: 0
A28: 4 | B28: Комплекс процессных мероприятий «Благоустройство территорий» | C28: всего, в том числе: | D28: =D29+D30+D31+D32 -> 75902 | E28: =E29+E30+E31+E32 -> 0 | F28: =F29+F30+F31+F32 -> 0 | G28: =G29+G30+G31+G32 -> 0 | H28: =H29+H30+H31+H32 -> 0 | I28: =I29+I30+I31+I32 -> 0
C29: местный бюджет муниципального образования | D29: =55902+10000+5000+5000 -> 75902 | E29: 0 | F29: 0 | G29: 0 | H29: 0
C30: федеральный бюджет (справочно) | D30: 0 | E30: 0 | F30: 0 | G30: 0 | H30: 0 | I30: 0
C31: республиканский бюджет Республики Алтай (справочно) | D31: 0 | E31: 0 | F31: 0 | G31: 0 | H31: 0 | I31: 0
C32: иные источники (справочно) | D32: 0 | E32: 0 | F32: 0 | G32: 0 | H32: 0 | I32: 0
A33: 5 | B33: Комплекс процессных мероприятий "Улучшение жилищных условий граждан, проживающих в сельской местности, обеспечение жильем молодых семей и молодых специалистов" | C33: всего, в том числе: | D33: =SUM(D34:D37) -> 0 | E33: =SUM(E34:E37) -> 0 | F33: =SUM(F34:F37) -> 0 | G33: =SUM(G34:G37) -> 0 | H33: =SUM(H34:H37) -> 0 | I33: =SUM(I34:I37) -> 0
C34: местный бюджет муниципального образования | D34: 0 | E34: 0 | F34: 0 | G34: 0 | H34: 0 | I34: 0
C35: федеральный бюджет (справочно) | D35: 0 | E35: 0 | F35: 0 | G35: 0 | H35: 0 | I35: 0
C36: республиканский бюджет Республики Алтай (справочно) | D36: 0 | E36: 0 | F36: 0 | G36: 0 | H36: 0 | I36: 0
C37: иные источники (справочно) | D37: 0 | E37: 0 | F37: 0 | G37: 0 | H37: 0 | I37: 0
A38: 6 | B38: Комплекс процессных мероприятий «Улучшение условий жизни населения Чемальского района, проживающего в многоквартирном жилом фонде» | C38: всего, в том числе: | D38: =D39+D40+D41+D42 -> 9000 | E38: =E39+E40+E41+E42 -> 0 | F38: =F39+F40+F41+F42 -> 0 | G38: =G39+G40+G41+G42 -> 0 | H38: =H39+H40+H41+H42 -> 0 | I38: =I39+I40+I41+I42 -> 0
C39: местный бюджет муниципального образования | D39: 9000 | E39: 0 | F39: 0 | G39: 0 | H39: 0 | I39: 0
C40: федеральный бюджет (справочно) | D40: 0 | E40: 0 | F40: 0 | G40: 0 | H40: 0 | I40: 0
C41: республиканский бюджет Республики Алтай (справочно) | D41: 0 | E41: 0 | F41: 0 | G41: 0 | H41: 0 | I41: 0
C42: иные источники (справочно) | D42: 0 | E42: 0 | F42: 0 | G42: 0 | H42: 0 | I42: 0
A43: 7 | B43: Комплекс процессных мероприятий «Осуществление полномочий по организации мероприятий в сфере обращения с отходами» | C43: всего, в том числе: | D43: =D44+D45+D46+D47 -> 6462 | E43: =E44+E45+E46+E47 -> 5895 | F43: =F44+F45+F46+F47 -> 5895 | G43: =G44+G45+G46+G47 -> 0 | H43: =H44+H45+H46+H47 -> 0 | I43: =I44+I45+I46+I47 -> 0
C44: местный бюджет муниципального образования | D44: =491+1500+2695+400+1000+76+300 -> 6462 | E44: =1500+2695+400+1000+300 -> 5895 | F44: =E44 -> 5895 | G44: 0 | H44: 0 | I44: 0
C45: федеральный бюджет (справочно) | D45: 0 | E45: 0 | F45: 0 | G45: 0 | H45: 0 | I45: 0
C46: республиканский бюджет Республики Алтай (справочно) | D46: 0 | E46: 0 | F46: 0 | G46: 0 | H46: 0 | I46: 0
C47: иные источники (справочно) | D47: 0 | E47: 0 | F47: 0 | G47: 0 | H47: 0 | I47: 0
A48: 8 | B48: Комплекс процессных мероприятий «Развитие коммунальной инфраструктуры» | C48: всего, в том числе: | D48: =D49+D50+D51+D52 -> 0 | E48: =E49+E50+E51+E52 -> 0 | F48: =F49+F50+F51+F52 -> 0 | G48: =G49+G50+G51+G52 -> 0 | H48: =H49+H50+H51+H52 -> 0 | I48: =I49+I50+I51+I52 -> 0
C49: местный бюджет муниципального образования | D49: 0 | E49: 0 | F49: 0 | G49: 0 | H49: 0 | I49: 0
C50: федеральный бюджет (справочно) | D50: 0 | E50: 0 | F50: 0 | G50: 0 | H50: 0 | I50: 0
C51: республиканский бюджет Республики Алтай (справочно) | D51: 0 | E51: 0 | F51: 0 | G51: 0 | H51: 0 | I51: 0
C52: иные источники (справочно) | D52: 0 | E52: 0 | F52: 0 | G52: 0 | H52: 0 | I52: 0
A53: 9 | B53: Комплекс процессных мероприятий «Развитие социальной инфраструктуры» | C53: всего, в том числе: | D53: =D54+D55+D56+D57 -> 203769.24 | E53: =E54+E55+E56+E57 -> 20000 | F53: =F54+F55+F56+F57 -> 0 | G53: =G54+G55+G56+G57 -> 0 | H53: =H54+H55+H56+H57 -> 0 | I53: =I54+I55+I56+I57 -> 0
C54: местный бюджет муниципального образования | D54: =43000+10769.24 -> 53769.24 | E54: 20000
C55: федеральный бюджет (справочно) | D55: 0 | E55: 0 | F55: 0 | G55: 0 | H55: 0 | I55: 0
C56: республиканский бюджет Республики Алтай (справочно) | D56: 150000 | E56: 0 | F56: 0 | G56: 0 | H56: 0 | I56: 0
C57: иные источники (справочно) | D57: 0 | E57: 0 | F57: 0 | G57: 0 | H57: 0 | I57: 0
A58: 10 | B58: Комплекс процессных мероприятий «Сохранение и развитие автомобильных дорог» | C58: всего, в том числе: | D58: =D59+D60+D61+D62 -> 463600 | E58: =E59+E60+E61+E62 -> 0 | F58: =F59+F60+F61+F62 -> 0 | G58: =G59+G60+G61+G62 -> 0 | H58: =H59+H60+H61+H62 -> 0 | I58: =I59+I60+I61+I62 -> 0
C59: местный бюджет муниципального образования | D59: =600+5000+18000 -> 23600 | E59: 0 | F59: 0 | G59: 0 | H59: 0 | I59: 0
C60: федеральный бюджет (справочно) | D60: 0 | E60: 0 | F60: 0 | G60: 0 | H60: 0 | I60: 0
C61: республиканский бюджет Республики Алтай (справочно) | D61: =85000+320000+35000 -> 440000 | E61: 0 | F61: 0 | G61: 0 | H61: 0 | I61: 0
C62: иные источники (справочно) | D62: 0 | E62: 0 | F62: 0 | G62: 0 | H62: 0 | I62: 0
A63: 11 | B63: Комплекс процессных мероприятий «Создание условий для реализации муниципальной программы" | C63: всего, в том числе: | D63: =D64+D65+D66+D67 -> 24557.2 | E63: =E64+E65+E66+E67 -> 24352 | F63: =F64+F65+F66+F67 -> 0 | G63: =G64+G65+G66+G67 -> 0 | H63: =H64+H65+H66+H67 -> 0 | I63: =I64+I65+I66+I67 -> 0
C64: местный бюджет муниципального образования | D64: 24557.2 | E64: 24352 | F64: 0 | G64: 0 | H64: 0 | I64: 0
C65: федеральный бюджет (справочно) | D65: 0 | E65: 0 | F65: 0 | G65: 0 | H65: 0 | I65: 0
C66: республиканский бюджет Республики Алтай (справочно) | D66: 0 | E66: 0 | F66: 0 | G66: 0 | H66: 0 | I66: 0
C67: иные источники (справочно) | D67: 0 | E67: 0 | F67: 0 | G67: 0 | H67: 0 | I67: 0
A68: 12 | B68: Комплекс процессных мероприятий «Повышения уровня защиты населения от чрезвычайных ситуаций, пожаров и происшествий на водных объектов” | C68: всего, в том числе: | D68: =SUM(D69:D72) -> 171.7 | E68: =SUM(E69:E72) -> 0 | F68: =SUM(F69:F72) -> 0 | G68: =SUM(G69:G72) -> 0 | H68: =SUM(H69:H72) -> 0 | I68: =SUM(I69:I72) -> 0
C69: местный бюджет муниципального образования | D69: 171.7 | E69: 0 | F69: 0 | G69: 0 | H69: 0 | I69: 0
C70: федеральный бюджет (справочно) | D70: 0 | E70: 0 | F70: 0 | G70: 0 | H70: 0 | I70: 0
C71: республиканский бюджет Республики Алтай (справочно) | D71: 0 | E71: 0 | F71: 0 | G71: 0 | H71: 0 | I71: 0
C72: иные источники (справочно) | D72: 0 | E72: 0 | F72: 0 | G72: 0 | H72: 0 | I72: 0
A73: 13 | B73: Комплекс процессных мероприятий «Развитие ЕДДС Чемальского района" | C73: всего, в том числе: | D73: =SUM(D74:D77) -> 325.919 | E73: =SUM(E74:E77) -> 325.875 | F73: =SUM(F74:F77) -> 325.875 | G73: 0 | H73: 0 | I73: 0
C74: местный бюджет муниципального образования | D74: 325.919 | E74: 325.875 | F74: 325.875 | G74: 0 | H74: 0 | I74: 0
C75: федеральный бюджет (справочно) | D75: 0 | E75: 0 | F75: 0 | G75: 0 | H75: 0 | I75: 0
C76: республиканский бюджет Республики Алтай (справочно) | D76: 0 | E76: 0 | F76: 0 | G76: 0 | H76: 0 | I76: 0
C77: иные источники (справочно) | D77: 0 | E77: 0 | F77: 0 | G77: 0 | H77: 0 | I77: 0
A78: 14 | B78: Комплекс процессных мероприятий «Создание условий для выполнения задач и функций КУ МО "Чемальский район" "Единая диспетчерско-хозяйственная служба" | C78: всего, в том числе: | D78: =SUM(D79:D82) -> 19336.648 | E78: =SUM(E79:E82) -> 18973.148 | F78: =SUM(F79:F82) -> 18973.148 | G78: 0 | H78: 0 | I78: 0
C79: местный бюджет муниципального образования | D79: 19336.648 | E79: 18973.148 | F79: 18973.148 | G79: 0 | H79: 0 | I79: 0
C80: федеральный бюджет (справочно) | D80: 0 | E80: 0 | F80: 0 | G80: 0 | H80: 0 | I80: 0
C81: республиканский бюджет Республики Алтай (справочно) | D81: 0 | E81: 0 | F81: 0 | G81: 0 | H81: 0 | I81: 0
C82: иные источники (справочно) | D82: 0 | E82: 0 | F82: 0 | G82: 0 | H82: 0 | I82: 0
A83: 15 | B83: Комплекс процессных мероприятий «Профилактика терроризма" | C83: всего, в том числе: | D83: =D84+D85+D86+D87 -> 50 | E83: =E84+E85+E86+E87 -> 50 | F83: =F84+F85+F86+F87 -> 50 | G83: =G84+G85+G86+G87 -> 0 | H83: =H84+H85+H86+H87 -> 0 | I83: =I84+I85+I86+I87 -> 0
C84: местный бюджет муниципального образования | D84: 50 | E84: 50 | F84: 50 | G84: 0 | H84: 0 | I84: 0
C85: федеральный бюджет (справочно) | H85: 0 | I85: 0
C86: республиканский бюджет Республики Алтай (справочно) | H86: 0 | I86: 0
C87: иные источники (справочно) | H87: 0 | I87: 0
A88: 16 | B88: Комплекс процессных мероприятий «Профилактика правонарушений" | C88: всего, в том числе: | D88: =D89+D90+D91+D92 -> 50 | E88: =E89+E90+E91+E92 -> 50 | F88: =F89+F90+F91+F92 -> 50 | G88: =G89+G90+G91+G92 -> 0 | H88: =H89+H90+H91+H92 -> 0 | I88: =I89+I90+I91+I92 -> 0
C89: местный бюджет муниципального образования | D89: 50 | E89: 50 | F89: 50 | G89: 0 | H89: 0 | I89: 0
C90: федеральный бюджет (справочно) | H90: 0 | I90: 0
C91: республиканский бюджет Республики Алтай (справочно) | H91: 0 | I91: 0
C92: иные источники (справочно) | H92: 0 | I92: 0
A93: 17 | B93: Комплекс процессных мероприятий "Профилактика экстремизма, обеспечение межнационального и межконфессионального согласия, другие вопросы в области национальной безопасности" | C93: всего, в том числе: | D93: =SUM(D94:D97) -> 50 | E93: =SUM(E94:E97) -> 50 | F93: =SUM(F94:F97) -> 50 | G93: =SUM(G94:G97) -> 0 | H93: =SUM(H94:H97) -> 0 | I93: =SUM(I94:I97) -> 0
C94: местный бюджет муниципального образования | D94: 50 | E94: 50 | F94: 50 | G94: 0 | H94: 0 | I94: 0
C95: федеральный бюджет (справочно)
C96: республиканский бюджет Республики Алтай (справочно) | D96: 0
C97: иные источники (справочно)
A98: 18 | B98: Комплекс процессных мероприятий «Мобилизационная подготовка" | C98: всего, в том числе: | D98: =D99+D101+D100+D102 -> 286.015 | E98: =E99+E101+E100+E102 -> 324.49 | F98: =F99+F101+F100+F102 -> 0 | G98: =G99+G101+G100+G102 -> 0 | H98: =H99+H101+H100+H102 -> 0 | I98: =I99+I101+I100+I102 -> 0
C99: местный бюджет муниципального образования | D99: 286.015 | E99: 324.49 | F99: 0 | G99: 0 | H99: 0 | I99: 0
C100: федеральный бюджет (справочно) | H100: 0 | I100: 0
C101: республиканский бюджет Республики Алтай (справочно) | H101: 0 | I101: 0
C102: иные источники (справочно) | H102: 0 | I102: 0
A103: 19 | B103: Комплекс процессных мероприятий «Профилактика безнадзорности и правонарушений несовершеннолетних" | C103: всего, в том числе: | D103: =D104+D105+D106+D107 -> 1925.33 | E103: =E104+E105+E106+E107 -> 1925.33 | F103: =F104+F105+F106+F107 -> 1965.33 | G103: =G104+G105+G106+G107 -> 0 | H103: =H104+H105+H106+H107 -> 0 | I103: =I104+I105+I106+I107 -> 0
...
