Workbook

Sheet Паспорт
B1: УТВЕРЖДЕН
B2: решением управляющего совета муниципального образования "Чемальский район" Протокол управляющего совета муниципального образования "Чемальский район" "24" октября 2025г. №3
A5: ПАСПОРТ
A6: муниципальной программы
A7: "Развитие систем жизнеобеспечения муниципального образования "Чемальский район" на 2026-2031 годы"
A9: 1.Основные положения
A11: Ответственный исполнитель муниципальной программы | B11: МКУ "Управление строительства и коммунального хозяйства" КУ МО "Чемальский район""Единая диспетчерско-хозяйственная служба", консультант по молодежной политике, консультант КДН и ЗП, консультант по мобилизационной работе, консультант по сельскому хозяйству, специалист по связям с общественностью
A12: Период реализации муниципальной программы | B12: 2026-2031 годы
A13: Цель муниципальной программы | B13: Цель 1. Создание нового облика населенных пунктов на территории района.
B14: Цель 2. Обеспечение к 2031 году доступными и качественными жилищно-коммунальными услугами.
B15: Цель 3. Повышение уровня безопасности и качества автомобильных дорог общего пользования местного значения.
B16: Цель 4. Обеспечение комплексных мер безопасности населения.
B17: Цель 5 Развитие жилищного строительства
A18: Направления (подпрограмма) муниципальной программы (при необходимости) | B18: Направление (подпрограмма) 1. Развитие жилищного комплекса.
B19: Направление (подпрограмма) 2. Развитие коммунального комплекса.
B20: Направление (подпрограмма) 3. Развитие дорожно-транспортного комплекса.
B21: Направление (подпрограмма) 4. Обеспечение безопасности населения.
B22: Направление (подпрограмма) 5. Устойчивое развитие сельских территорий.
A23: Объем бюджетных ассигнований муниципальной программы, в том числе по годам реализации. | B23: 2026 год | C23: ='приложение 5'!D8 -> 870272.71
B24: 2027 год | C24: ='приложение 5'!E8 -> 83373.843
B25: 2028 год | C25: ='приложение 5'!F8 -> 38737.353
B26: 2029 год | C26: ='приложение 5'!G8 -> 0
B27: 2030 год | C27: ='приложение 5'!H8 -> 0
B28: 2031 год | C28: ='приложение 5'!I8 -> 0
A29: Связь с национальными целями развития Российской Федерации, государственными программами Республики Алтай | B29: Национальная цель: Комфортная и безопасная среда для жизни: Государственная программа Республики Алтай "Развитие жилищно-коммунального комплекса"; Государственная программа Республики Алтай "Обеспечение экологической безопасности и улучшение состояния окружающей среды"; Государственная программа Республики Алтай "Повышение качества водоснабжения в Республике Алтай"; Государственная программа Республики Алтай "Развитие транспортного комплекса"; Государственная программа "Комплексное развитие сельских территориий"

Sheet Показатели МП
A2: 2. Показатели муниципальной программы
A4: № п/п | B4: Наименование показателя 1 | C4: Единица измерения | D4: Базовое значение (2024 г.) 2 | E4: Значение показателей | K4: Ответственный за достижение показателя 3 | L4: Связь с показателями национальных целей 4 | M4: Информационная система 5
E5: 2026 г. | F5: 2027 г. | G5: 2028 г. | H5: 2029 г. | I5: 2030 г. | J5: 2031 г.
A6: 1 | B6: 2 | C6: 3 | D6: 4 | E6: 5 | F6: 6 | G6: 7 | H6: 8 | I6: 9 | J6: 10 | K6: 11 | L6: 12 | M6: 13
A7: Цель 1. Создание нового облика населенных пунктов на территории района
A8: 1 | B8: Доля многоквартирных домов, в которых собственники помещений выбрали и реализуют один из способов управления многоквартирными домами, в общем числе многоквартирных домов, в которых собственники помещений должны выбрать способ управления указанными домами. | C8: % | D8: 100 | E8: 100 | F8: 100 | G8: 100 | H8: 100 | I8: 100 | J8: 100 | K8: МКУ "Управление строительства и коммунального хозяйста" | L8: Улучшение качества городской среды в полтора раза | M8: х
A9: Цель 2. Обеспечение к 2031 году доступными и качественными жилищно-коммунальнымиуслугами
A10: 2 | B10: Объем не завершенного в установленные сроки строительства, осуществляемого за счет средств бюджета муниципального района | C10: млн. рублей | D10: 0 | E10: 0 | F10: 0 | G10: 0 | H10: 0 | I10: 0 | J10: 0 | K10: МКУ "Управление строительства и коммунального хозяйста" | L10: Улучшение жилищных условий не менее 5 млн. семей ежегодно и увеличение объема жилищного строительства не менее чем до 120 млн. кв. метров в год | M10: х
A11: Цель 3. Повышение уровня безопасности и качества автомобильных дорог общего пользования местного значения
A12: 3 | B12: Доля протяженности автомобильных дорог общего пользования местного значения, не отвечающих нормативным требованиям, в общей протяженности автомобильных дорог общего пользования местного значения | C12: % | D12: 0 | E12: 0 | F12: 0 | G12: 0 | H12: 0 | I12: 0 | J12: 0 | K12: МКУ "Управление строительства и коммунального хозяйста" | L12: х | M12: х
A13: Цель 4 Обеспечение комплексных мер безопасности населения
A14: 4 | B14: Количество проведенных мероприятий по предупреждению и ликвидации чрезвычайных ситуаций природного и техногенного характера | C14: ед. | D14: 3 | E14: 3 | F14: 3 | G14: 3 | H14: 3 | I14: 3 | J14: 3 | K14: КУ МО "Чемальский район" "Единая диспетчерско-хозяйственная служба" | L14: х | M14: х
A15: 5 | B15: Доля выявленных преступных действий против личности, общества против межнационального и межконфессионального согласия в общей численности зарегистрированных преступлений | C15: % | D15: 0 | E15: 0 | F15: 0 | G15: 0 | H15: 0 | I15: 0 | J15: 0 | K15: Консультант по молодежной политике | L15: х | M15: х
A16: 6 | B16: Снижение количества зарегистрированных преступлений | C16: % | D16: 1 | E16: 1 | F16: 1 | G16: 1 | H16: 1 | I16: 1 | J16: 1 | K16: Консультант КДН и ЗП | L16: х | M16: х
B17: Цель 5 Развитие жилищного строительства
A18: 7 | B18: Обеспечение населения доступным и комфортным жильем (категория молодые специалисты, молодые семьи) | C18: кол-во семей и молодых специалистов- получателей субсидии | D18: 0 | E18: 2 | F18: 2 | G18: 2 | H18: 2 | I18: 2 | J18: 2 | K18: Консультант по сельскому хозяйству, консультант по молодежной политике | L18: х | M18: х

Sheet Структура МП
A2: 3.Структура муниципальной программы
A4: № п/п | B4: Задачи структурного элемента 7 | C4: Краткое описание ожидаемых эффектов от реализации задачи структурного элемента8 | D4: Связь с показателями 9
A5: 1 | B5: 2 | C5: 3 | D5: 4
A6: 1 | B6: Направление (подпрограмма) 1. Развитие жилищного комплекса
A7: 1.1 | B7: Региональный проект «Формирование комфортной городской среды»
B8: Ответственный за реализацию (МКУ "Управление строительства и коммунального хозяйства") | D8: Срок реализации: 2026-2031 годы
A9: 1.1.1 | B9: Благоустройство сельских территорий | C9: Создание условий для безопасной и удобной жизни граждан | D9: Доля многоквартирных домов, в которых собственники помещений выбрали и реализуют один из способов управления многоквартирными домами, в общем числе многоквартирных домов, в которых собственники помещений должны выбрать способ управления указанными домами
A10: 1.2 | B10: Комплекс процессных мероприятий «Благоустройство территорий»
B11: Ответственный за реализацию (МКУ "Управление строительства и коммунального хозяйства") | D11: Срок реализации: 2026-2031 годы
A12: 1.2.1 | B12: Благоустройство территории общего пользования | C12: Организация мероприятий по благоустройству территории общего пользования, устройству детских и сппортивных площадок, уличного освещения | D12: х
A13: 1.2.2 | B13: Осуществление полномочий по организации деятельности в сфере похоронного дела | C13: Сокращение образования отходов и снижение класса опасности отходов в источниках их образования. | D13: х
A14: 1.3 | B14: Комплекс процессных мероприятий «Улучшение жилищных условий граждан, проживающих в сельской местности, обеспечение жильем молодых семей и молодых специалистов»
B15: Ответственный за реализацию (консультант по сельскому хозяйству администрации Чемальского района, консультант по молодежной политике администрации Чемальского района" | D15: Срок реализации: 2026-2031 годы
A16: 1.3.1 | B16: Формирование списков получателей субсидии на улучшение жилищных условий | C16: Улучшение условий жизни населения Чемальского района, проживающего в сельской местности | D16: Количество молодых семей и молодых специалистов , обеспеченных жильем
A17: 1.4 | B17: Комплекс процессных мероприятий «Улучшение условий жизни населения Чемальского района, проживающего в многоквартирном жилом фонде»
B18: Ответственный за реализацию (МКУ "Управление строительства и коммунального хозяйства") | D18: Срок реализации: 2026-2031 годы
A19: 1.4.1 | B19: Проведение капитального ремонта общего имущества в многоквартирных домах | C19: Улучшение условий жизни населения Чемальского района, проживающего в многоквартирном жилом фонде | D19: Доля многоквартирных домов, в которых собственники помещений выбрали и реализуют один из способов управления многоквартирными домами, в общем числе многоквартирных домов, в которых собственники помещений должны выбрать способ управления указанными домами
A20: 1.5 | B20: Комплекс процессных мероприятий «Осуществление полномочий по организации мероприятий в сфере обращения с отходами»
B21: Ответственный за реализацию (МКУ "Управление строительства и коммунального хозяйства") | D21: Срок реализации: 2026-2031 годы
A22: 1.5.1 | B22: Организация мероприятий в сфере обращения с отходами | C22: Создание условий для безопасной и удобной жизни граждан | D22: х
A23: 2 | B23: Направление (подпрограмма) 2. Развитие коммунального комплекса
A24: 2.1 | B24: Региональный проект «Модернизация систем коммунальной инфраструктуры»
B25: Ответственный за реализацию (МКУ "Управление строительства и коммунального хозяйства") | D25: Срок реализации: 2026-2031 годы
A26: 2.1.1 | B26: Реализация проектов по модернизации систем коммунальной инфраструктуры | C26: х | D26: Объем не завершенного в установленные сроки строительства, осуществляемого за счет средств бюджета муниципального района
A27: 2.2 | B27: Региональный проект «Комплексное развитие сельских территорий»
B28: Ответственный за реализацию (МКУ "Управление строительства и коммунального хозяйства") | D28: Срок реализации: 2026-2031 годы
A29: 2.2.1 | B29: Реализация проектов коплексного развития сельских территорий | C29: х | D29: Объем не завершенного в установленные сроки строительства, осуществляемого за счет средств бюджета муниципального района
A30: 2.3 | B30: Комплекс процессных мероприятий «Развитие коммунальной инфраструктуры»
B31: Ответственный за реализацию (МКУ "Управление строительства и коммунального хозяйства") | D31: Срок реализации: 2026-2031 годы
A32: 2.3.1 | B32: Развитие водоснабжения и теплоснабжения | C32: Реализация мероприятий по проектированию, реконструкции, расширению, модернизации, стротельству комунальных объектов; по проведению капитального и текущего ремонта (с заменой) систем теплоснабжения, водоснабжения и водоотведения | D32: Объем не завершенного в установленные сроки строительства, осуществляемого за счет средств бюджета муниципального района
A33: 2.4 | B33: Комплекс процессных мероприятий «Развитие социальной инфраструктуры»
B34: Ответственный за реализацию (МКУ "Управление строительства и коммунального хозяйства") | D34: Срок реализации: 2026-2031 годы
A35: 2.4.1 | B35: Развитие сельских территорий | C35: Реализация мероприятий по проектированию, реконструкции, расширению, модернизации, стротельству социальных объектов; по проведению капитального и текущего ремонта | D35: Объем не завершенного в установленные сроки строительства, осуществляемого за счет средств бюджета муниципального района домовладений района
A36: 3 | B36: Направление (подпрограмма) 3. Развитие дорожно-транспортного комплекса
A37: 3.1 | B37: Комплекс процессных мероприятий «Сохранение и развитие автомобильных дорог»
B38: Ответственный за реализацию (МКУ "Управление строительства и коммунального хозяйства") | D38: Срок реализации: 2026-2031 годы
A39: 3.1.1 | B39: Улучшение технического состояния, повышение уровня комфортности улично-дорожной сети района для обеспечения безопасности и эффективности транспортного обслуживания населения | C39: Разработка проектной, сметной документации, капитальный ремонт и текущий ремонт (ямочный) автомобильных дорог, местного значения | D39: Доля протяженности автомобильных дорог общего пользования местного значения, не отвечающих нормативным требованиям, в общей протяженности автомобильных дорог общего пользования местного значения
A40: 3.1.2 | B40: Развитие и сохранность сети автомобильных дорог местного значения | C40: Содержание автомобильных дорог местного значения в границах населенных пунктов сельского поселения (организация мероприятий по очистке от снега и наледи в зимний период улично-дорожной сети района и др.) | D40: Доля протяженности автомобильных дорог общего пользования местного значения, не отвечающих нормативным требованиям, в общей протяженности автомобильных дорог общего пользования местного значения
A41: 3.1.3 | B41: Обеспечение безопасности дорожного движения на автомобильных дорогах местного значения | C41: Приобретение и установка дорожных знаков, нанесение разметки на улично-дорожной сети района, приобретение и устновка остановочных павильонов и урн | D41: Доля протяженности автомобильных дорог общего пользования местного значения, не отвечающих нормативным требованиям, в общей протяженности автомобильных дорог общего пользования местного значения
A42: 4 | B42: Структурные элементы, не входящие в направления (подпрограммы)
...

Sheet Перечень мероприятий
A2: 4. Перечень мероприятий (результатов) муниципальной программы
A4: № п/п | B4: Наименование мероприятия (результат) | C4: Целевые показатели непосредственного результата реализации мероприятия | L4: Сроки наступления мероприятия
C5: Наименование | D5: Единица измерения | E5: Базовое значение (2024г.) | F5: Значения мероприятия (результата) по годам | L5: I полугодие | M5: II полугодие
F6: 2026г. | G6: 2027г. | H6: 2028г. | I6: 2029г. | J6: 2030г. | K6: 2031г.
A7: 1 | B7: 2 | C7: 3 | D7: 4 | E7: 5 | F7: 6 | G7: 7 | H7: 8 | I7: 9 | J7: 10 | K7: 11 | L7: 12 | M7: 13
A8: 1. Региональный проект "Формирование комфортной городской среды"
A9: Благоустройство сельских территорий
A10: 1.1 | B10: Благоустройтво территорий общего пользования | C10: Количество благоустроенных территорий общего пользования | D10: шт. | E10: 1 | F10: 1 | G10: 1 | H10: 1 | I10: 1 | J10: 1 | K10: 1 | M10: V
A11: 2. Региональный проект "Модернизация систем коммунальной инфраструктуры"
A12: Реализация проектов по модернизации систем коммунальной инфраструктуры
A13: 2.1 | B13: Обеспечение модернизации систем коммунальной инфраструктуры (строительство объектов коммунальной инфраструктуры) | C13: Обеспеченность централизованным водоснабжением домовладений | D13: % | M13: V
A14: 3. Региональный проект "Комплексное развитие сельских территорий"
A15: Реализация проектов коплексного развития сельских территорий
A16: 3.1 | B16: Обеспечение комплексного развития сельских территорий (строительство социальных и коммунальных объектов) | C16: Доля муниципальных общеобразовательных учреждений, здания которых находятся в аварийном состоянии или требуют капитального ремонта, в общем количестве муниципальных общеобразовательных учреждений | D16: % | E16: 30 | F16: 20 | G16: 10 | H16: 0 | I16: 0 | J16: 0 | K16: 0 | M16: V
A17: 4. Комплекс процессных мероприятий «Благоустройство территорий»
A18: Благоустройство территории общего пользования
A19: 4.1 | B19: Благоустройство территории общего пользования | C19: Количество обустроенных детких/спортвных площадок | D19: =D10 -> шт. | E19: =E10 -> 1 | F19: =F10 -> 1 | G19: =G10 -> 1 | H19: =H10 -> 1 | I19: =I10 -> 1 | J19: =J10 -> 1 | K19: =K10 -> 1 | M19: V
A20: 4.2 | B20: Осуществление полномочий по организации деятельности в сфере похоронного дела | C20: Доля благоустроенных территорий кладбищ из общего колличества | D20: % | E20: 100 | F20: 100 | G20: 100 | H20: 100 | I20: 100 | J20: 100 | K20: 100 | M20: V
A21: 5. Комплекс процессных мероприятий "Улучшение жилищных условий граждан, проживающих в сельской местности, обеспечение жильем молодых семей и молодых специалистов"
A22: Формирование списков получателей субсидии на улучшение жилищных условий
A23: 5.1 | B23: Предоставление социальных выплат на строительство и приобретение жилья молодым семьям и молодым специалистам | C23: X | M23: V
A24: 6. Комплекс процессных мероприятий «Улучшение условий жизни населения Чемальского района, проживающего в многоквартирном жилом фонде»
A25: Проведение капитального ремонта общего имущества в многоквартирных домах
A26: 6.1 | B26: Обеспечение мероприятий про капитальному ремонту общего имущества в многоквартирных домах | C26: Количество многоквартирных домов, на которых выполнены работы по капитальному ремонту общего имущества | D26: ед. | M26: V
A27: 7. Комплекс процессных мероприятий «Осуществление полномочий по организации мероприятий в сфере обращения с отходами»
A28: Организация мероприятий в сфере обращения с отходами
A29: 7.1 | B29: Проведение мероприятий в сфере обращения с отходами | C29: Ликвидация несанкционированных свалок ТКО | D29: % | E29: 100 | F29: 100 | G29: 100 | H29: 100 | I29: 100 | J29: 100 | K29: 100 | M29: V
A30: 8. Комплекс процессных мероприятий «Развитие коммунальной инфраструктуры»
A31: Развитие водоснабжения и теплоснабжения
A32: 8.1 | B32: Осуществление мероприятий по развитию коммунальной инфраструктуры (проектироние, капитальный ремонт, ремонт объектов коммунальной инфраструктуры) | C32: Доля отремонтированных сетей водоснабжения | D32: % | M32: V
C33: Доля отремонтированных тепловых сетей | D33: % | M33: V
C34: Доля актуальных схем водоснабжения и теплоснабжения | D34: % | E34: 100 | F34: 100 | G34: 100 | H34: 100 | I34: 100 | J34: 100 | K34: 100 | M34: V
A35: 9. Комплекс процессных мероприятий «Развитие социальной инфраструктуры»
A36: Развитие сельских территорий
A37: 9.1 | B37: Обеспечение модернизации систем коммунальной инфраструктуры (проектировние, капитальный ремонт, ремонт объектов социальной инфраструктуры) | C37: X | M37: V
A38: 10. Комплекс процессных мероприятий «Сохранение и развитие автомобильных дорог»
A39: Улучшение технического состояния, повышение уровня комфортности улично-дорожной сети района для обеспечения безопасности и эффективности транспортного обслуживания населения
A40: 10.1 | B40: Капитальный ремонт, ремонт и содержание автомобильных дорог местного значения и искусственных сооружений на них | C40: Доля автомобильных дорог местного значения, не отвечающих нормативным требованиям к общей протяженности дорог местного значения | D40: % | M40: V
A41: 11. Комплекс процессных мероприятий «Создание условий для реализации муниципальной программы"
A42: Создание условий для обеспечения выполнения функций и текущих задач
...

Sheet приложение 5
A2: 5. Финансовое обеспечение муниципальной программы муниципального образования
A5: № п/п | B5: Наименование муниципальной программы, структурного элемента муниципальной программы (комплексной подпрограммы) | C5: Источник финансового обеспечения | D5: Объем финансового обеспечения по годам реализации тыс.рублей
D6: 2026 г. | E6: 2027 г. | F6: 2028 г. | G6: 2029 г. | H6: 2030 г. | I6: 2031 г.
A7: 1 | B7: 2 | C7: 3 | D7: 4 | E7: 5 | F7: 6 | G7: 7 | H7: 8 | I7: 9
B8: Муниципальная программа | C8: всего, в том числе: | D8: =D9+D10+D11+D12 -> 870272.71 | E8: =E9+E10+E11+E12 -> 83373.843 | F8: =F9+F10+F11+F12 -> 38737.353 | G8: =G9+G10+G11+G12 -> 0 | H8: =H9+H10+H11+H12 -> 0 | I8: =I9+I10+I11+I12 -> 0
C9: местный бюджетмуниципального образования | D9: =D14+D19+D24+D29+D39+D44+D49+D54+D59+D64+D69+D74+D79+D84+D89+D99+D104+D109+D114+D119+D34+D94 -> 222246.02 | E9: =E14+E19+E24+E29+E39+E44+E49+E54+E59+E64+E69+E74+E79+E84+E89+E99+E104+E109+E114+E119+E34+E94 -> 78278.943 | F9: =F14+F19+F24+F29+F39+F44+F49+F54+F59+F64+F69+F74+F79+F84+F89+F99+F104+F109+F114+F119+F34+F94 -> 33642.453 | G9: =G14+G19+G24+G29+G39+G44+G49+G54+G59+G64+G69+G74+G79+G84+G89+G99+G104+G109+G114+G119+G34+G94 -> 0 | H9: =H14+H19+H24+H29+H39+H44+H49+H54+H59+H64+H69+H74+H79+H84+H89+H99+H104+H109+H114+H119+H34+H94 -> 0 | I9: =I14+I19+I24+I29+I39+I44+I49+I54+I59+I64+I69+I74+I79+I84+I89+I99+I104+I109+I114+I119+I34+I94 -> 0
C10: федеральный бюджет (справочно) | D10: =D15+D20+D25+D30+D40+D45+D50+D55+D60+D65+D70+D75+D80+D85+D90+D100+D105+D110+D115+D120+D35+D95 -> 41837.524 | E10: =E15+E20+E25+E30+E40+E45+E50+E55+E60+E65+E70+E75+E80+E85+E90+E100+E105+E110+E115+E120+E35+E95 -> 0 | F10: =F15+F20+F25+F30+F40+F45+F50+F55+F60+F65+F70+F75+F80+F85+F90+F100+F105+F110+F115+F120+F35+F95 -> 0 | G10: =G15+G20+G25+G30+G40+G45+G50+G55+G60+G65+G70+G75+G80+G85+G90+G100+G105+G110+G115+G120+G35+G95 -> 0 | H10: =H15+H20+H25+H30+H40+H45+H50+H55+H60+H65+H70+H75+H80+H85+H90+H100+H105+H110+H115+H120+H35+H95 -> 0 | I10: =I15+I20+I25+I30+I40+I45+I50+I55+I60+I65+I70+I75+I80+I85+I90+I100+I105+I110+I115+I120+I35+I95 -> 0
C11: республиканский бюджет Республики Алтай (справочно) | D11: =D16+D21+D26+D31+D41+D46+D51+D56+D61+D66+D71+D76+D81+D86+D91+D101+D106+D111+D116+D121+D36+D96 -> 595517.5 | E11: =E16+E21+E26+E31+E41+E46+E51+E56+E61+E66+E71+E76+E81+E86+E91+E101+E106+E111+E116+E121+E36+E96 -> 5094.9 | F11: =F16+F21+F26+F31+F41+F46+F51+F56+F61+F66+F71+F76+F81+F86+F91+F101+F106+F111+F116+F121+F36+F96 -> 5094.9 | G11: =G16+G21+G26+G31+G41+G46+G51+G56+G61+G66+G71+G76+G81+G86+G91+G101+G106+G111+G116+G121+G36+G96 -> 0 | H11: =H16+H21+H26+H31+H41+H46+H51+H56+H61+H66+H71+H76+H81+H86+H91+H101+H106+H111+H116+H121+H36+H96 -> 0 | I11: =I16+I21+I26+I31+I41+I46+I51+I56+I61+I66+I71+I76+I81+I86+I91+I101+I106+I111+I116+I121+I36+I96 -> 0
C12: иные источники (справочно) | D12: =D17+D22+D27+D32+D42+D47+D52+D57+D62+D67+D72+D77+D82+D87+D92+D102+D107+D112+D117+D122+D37+D97 -> 10671.67 | E12: =E17+E22+E27+E32+E42+E47+E52+E57+E62+E67+E72+E77+E82+E87+E92+E102+E107+E112+E117+E122+E37+E97 -> 0 | F12: =F17+F22+F27+F32+F42+F47+F52+F57+F62+F67+F72+F77+F82+F87+F92+F102+F107+F112+F117+F122+F37+F97 -> 0 | G12: =G17+G22+G27+G32+G42+G47+G52+G57+G62+G67+G72+G77+G82+G87+G92+G102+G107+G112+G117+G122+G37+G97 -> 0 | H12: =H17+H22+H27+H32+H42+H47+H52+H57+H62+H67+H72+H77+H82+H87+H92+H102+H107+H112+H117+H122+H37+H97 -> 0 | I12: =I17+I22+I27+I32+I42+I47+I52+I57+I62+I67+I72+I77+I82+I87+I92+I102+I107+I112+I117+I122+I37+I97 -> 0
A13: 1 | B13: Региональный проект "Формирование комфортной городской среды" | C13: всего, в том числе: | D13: =D17+D16+D15+D14 -> 11000 | E13: =E17+E16+E15+E14 -> 11000 | F13: =F17+F16+F15+F14 -> 11000 | G13: =G17+G16+G15+G14 -> 0 | H13: =H17+H16+H15+H14 -> 0 | I13: =I17+I16+I15+I14 -> 0
C14: местный бюджет муниципального образования | D14: 6200 | E14: 6200 | F14: 6200 | G14: 0 | H14: 0 | I14: 0
C15: федеральный бюджет (справочно) | D15: 0 | E15: 0 | F15: 0 | G15: 0 | H15: 0 | I15: 0
C16: республиканский бюджет Республики Алтай (справочно) | D16: 4800 | E16: 4800 | F16: 4800 | G16: 0 | H16: 0 | I16: 0
C17: иные источники (справочно) | D17: 0 | E17: 0 | F17: 0 | G17: 0 | H17: 0 | I17: 0
A18: 2 | B18: Региональный проект "Модернизация систем коммунальной инфраструктуры" | C18: всего, в том числе: | D18: =D19+D20+D21+D22 -> 53358.658 | E18: =E19+E20+E21+E22 -> 0 | F18: =F19+F20+F21+F22 -> 0 | G18: =G19+G20+G21+G22 -> 0 | H18: =H19+H20+H21+H22 -> 0 | I18: =I19+I20+I21+I22 -> 0
C19: местный бюджет муниципального образования | D19: 426.867 | E19: 0 | F19: 0 | G19: 0 | H19: 0 | I19: 0
C20: федеральный бюджет (справочно) | D20: 41837.524 | E20: 0 | F20: 0 | G20: 0 | H20: 0 | I20: 0
C21: республиканский бюджет Республики Алтай (справочно) | D21: 422.598 | E21: 0 | F21: 0 | G21: 0 | H21: 0 | I21: 0
C22: иные источники (справочно) | D22: 10671.67 | E22: 0 | F22: 0 | G22: 0 | H22: 0 | I22: 0
A23: 3 | B23: Региональный проект "Комплексное развитие сельских территорий" | C23: всего, в том числе: | D23: =D24+D25+D26+D27 -> 0 | E23: =E24+E25+E26+E27 -> 0 | F23: =F24+F25+F26+F27 -> 0 | G23: =G24+G25+G26+G27 -> 0 | H23: =H24+H25+H26+H27 -> 0 | I23: =I24+I25+I26+I27 -> 0
C24: местный бюджет муниципального образования | D24: 0 | E24: 0 | F24: 0 | G24: 0 | H24: 0 | I24: 0
C25: федеральный бюджет (справочно) | D25: 0 | E25: 0 | F25: 0 | G25: 0 | H25: 0 | I25: 0
C26: республиканский бюджет Республики Алтай (справочно) | D26: 0 | E26: 0 | F26: 0 | G26: 0 | H26: 0 | I26: 0
C27: иные источники (справочно) | D27: 0 | E27: 0 | F27: 0 | G27: 0 | H27: 0 | I27: 0
A28: 4 | B28: Комплекс процессных мероприятий «Благоустройство территорий» | C28: всего, в том числе: | D28: =D29+D30+D31+D32 -> 75902 | E28: =E29+E30+E31+E32 -> 0 | F28: =F29+F30+F31+F32 -> 0 | G28: =G29+G30+G31+G32 -> 0 | H28: =H29+H30+H31+H32 -> 0 | I28: =I29+I30+I31+I32 -> 0
C29: местный бюджет муниципального образования | D29: =55902+10000+5000+5000 -> 75902 | E29: 0 | F29: 0 | G29: 0 | H29: 0
C30: федеральный бюджет (справочно) | D30: 0 | E30: 0 | F30: 0 | G30: 0 | H30: 0 | I30: 0
C31: республиканский бюджет Республики Алтай (справочно) | D31: 0 | E31: 0 | F31: 0 | G31: 0 | H31: 0 | I31: 0
C32: иные источники (справочно) | D32: 0 | E32: 0 | F32: 0 | G32: 0 | H32: 0 | I32: 0
A33: 5 | B33: Комплекс процессных мероприятий "Улучшение жилищных условий граждан, проживающих в сельской местности, обеспечение жильем молодых семей и молодых специалистов" | C33: всего, в том числе: | D33: =SUM(D34:D37) -> 0 | E33: =SUM(E34:E37) -> 0 | F33: =SUM(F34:F37) -> 0 | G33: =SUM(G34:G37) -> 0 | H33: =SUM(H34:H37) -> 0 | I33: =SUM(I34:I37) -> 0
C34: местный бюджет муниципального образования | D34: 0 | E34: 0 | F34: 0 | G34: 0 | H34: 0 | I34: 0
C35: федеральный бюджет (справочно) | D35: 0 | E35: 0 | F35: 0 | G35: 0 | H35: 0 | I35: 0
C36: республиканский бюджет Республики Алтай (справочно) | D36: 0 | E36: 0 | F36: 0 | G36: 0 | H36: 0 | I36: 0
C37: иные источники (справочно) | D37: 0 | E37: 0 | F37: 0 | G37: 0 | H37: 0 | I37: 0
A38: 6 | B38: Комплекс процессных мероприятий «Улучшение условий жизни населения Чемальского района, проживающего в многоквартирном жилом фонде» | C38: всего, в том числе: | D38: =D39+D40+D41+D42 -> 9000 | E38: =E39+E40+E41+E42 -> 0 | F38: =F39+F40+F41+F42 -> 0 | G38: =G39+G40+G41+G42 -> 0 | H38: =H39+H40+H41+H42 -> 0 | I38: =I39+I40+I41+I42 -> 0
C39: местный бюджет муниципального образования | D39: 9000 | E39: 0 | F39: 0 | G39: 0 | H39: 0 | I39: 0
C40: федеральный бюджет (справочно) | D40: 0 | E40: 0 | F40: 0 | G40: 0 | H40: 0 | I40: 0
C41: республиканский бюджет Республики Алтай (справочно) | D41: 0 | E41: 0 | F41: 0 | G41: 0 | H41: 0 | I41: 0
C42: иные источники (справочно) | D42: 0 | E42: 0 | F42: 0 | G42: 0 | H42: 0 | I42: 0
A43: 7 | B43: Комплекс процессных мероприятий «Осуществление полномочий по организации мероприятий в сфере обращения с отходами» | C43: всего, в том числе: | D43: =D44+D45+D46+D47 -> 6462 | E43: =E44+E45+E46+E47 -> 5895 | F43: =F44+F45+F46+F47 -> 5895 | G43: =G44+G45+G46+G47 -> 0 | H43: =H44+H45+H46+H47 -> 0 | I43: =I44+I45+I46+I47 -> 0
...
